hapmapsnp6 1.3.6 Benilton Carvalho
 | Snapshot Date: 2012-03-23 11:15:09 -0700 (Fri, 23 Mar 2012) |  | URL: https://hedgehog.fhcrc.org/bioc-data/trunk/experiment/pkgs/hapmapsnp6 |  | Last Changed Rev: 2028 / Revision: 2028 |  | Last Changed Date: 2012-03-23 08:16:04 -0700 (Fri, 23 Mar 2012) |  
  | wilson2  | Linux (openSUSE 11.4) / x86_64  |  OK  |  ERROR  |  | 
| moscato1  | Windows Server 2008 R2 Enterprise SP1 (64-bit) / x64  |  OK  |  ERROR  |  ERROR  | 
| pitt  | Mac OS X Leopard (10.5.8) / i386  |  OK  |  ERROR  | [ ERROR ] | 
>>>>>>> 
>>>>>>> INSTALLATION WITH 'R CMD INSTALL --preclean --no-multiarch --library=hapmapsnp6.buildbin-libdir hapmapsnp6_1.3.6.tar.gz'
>>>>>>> 
ERROR: this R is version 2.14.2, package 'hapmapsnp6' requires R >=  2.15