ggtut 0.0.41 VJ Carey
 | Snapshot Date: 2012-03-23 11:15:09 -0700 (Fri, 23 Mar 2012) |  | URL: https://hedgehog.fhcrc.org/bioc-data/trunk/experiment/pkgs/ggtut |  | Last Changed Rev: 1933 / Revision: 2028 |  | Last Changed Date: 2012-02-23 05:13:43 -0800 (Thu, 23 Feb 2012) |  
  | wilson2  | Linux (openSUSE 11.4) / x86_64  |  OK  |  OK  |  | 
| moscato1  | Windows Server 2008 R2 Enterprise SP1 (64-bit) / x64  |  OK  |  OK  | [ OK ] | 
| pitt  | Mac OS X Leopard (10.5.8) / i386  |  OK  |  OK  |  OK  | 
install for i386
* installing *source* package 'ggtut' ...
** R
** data
** inst
** preparing package for lazy loading
Warning: replacing previous import 'space' when loading 'IRanges'
** help
*** installing help indices
** building package indices ...
** testing if installed package can be loaded
Warning message:
replacing previous import 'space' when loading 'IRanges' 
add DLL for x64
* installing *source* package 'ggtut' ...
** testing if installed package can be loaded
Warning message:
replacing previous import 'space' when loading 'IRanges' 
* MD5 sums
packaged installation of 'ggtut' as ggtut_0.0.41.zip
* DONE (ggtut)