RNAinteractMAPK 1.0.3 Bernd Fischer
 | Snapshot Date: 2012-03-23 11:15:09 -0700 (Fri, 23 Mar 2012) |  | URL: https://hedgehog.fhcrc.org/bioc-data/trunk/experiment/pkgs/RNAinteractMAPK |  | Last Changed Rev: 1875 / Revision: 2028 |  | Last Changed Date: 2012-01-05 00:51:17 -0800 (Thu, 05 Jan 2012) |  
  | wilson2  | Linux (openSUSE 11.4) / x86_64  |  OK  |  OK  |  | 
| moscato1  | Windows Server 2008 R2 Enterprise SP1 (64-bit) / x64  |  OK  |  OK  | [ OK ] | 
| pitt  | Mac OS X Leopard (10.5.8) / i386  |  OK  |  OK  |  OK  | 
install for i386
* installing *source* package 'RNAinteractMAPK' ...
** R
** data
** inst
** preparing package for lazy loading
locfit 1.5-6 	 2010-01-20 
Scalable Robust Estimators with High Breakdown Point (version 1.3-01)
Warning in .simpleDuplicateClass(def, prev) :
  A specification for S3 class "connection" in package 'graph' seems equivalent to one from package 'IRanges' and is not turning on duplicate class definitions for this class
Warning in .simpleDuplicateClass(def, prev) :
  A specification for S3 class "file" in package 'graph' seems equivalent to one from package 'IRanges' and is not turning on duplicate class definitions for this class
** help
*** installing help indices
** building package indices ...
*** tangling vignette sources ...
   'RNAinteractMAPK.Rnw' 
** testing if installed package can be loaded
locfit 1.5-6 	 2010-01-20 
Scalable Robust Estimators with High Breakdown Point (version 1.3-01)
add DLL for x64
* installing *source* package 'RNAinteractMAPK' ...
** testing if installed package can be loaded
locfit 1.5-6 	 2010-01-20 
Scalable Robust Estimators with High Breakdown Point (version 1.3-01)
* MD5 sums
packaged installation of 'RNAinteractMAPK' as RNAinteractMAPK_1.0.3.zip
* DONE (RNAinteractMAPK)