| ppiData 0.1.14 Tony Chiang
 
 | Snapshot Date: 2011-07-01 11:15:06 -0700 (Fri, 01 Jul 2011) |  | URL: https://hedgehog.fhcrc.org/bioc-data/trunk/experiment/pkgs/ppiData |  | Last Changed Rev: 1101 / Revision: 1675 |  | Last Changed Date: 2009-12-05 17:17:35 -0800 (Sat, 05 Dec 2009) | 
 | wilson2 | Linux (openSUSE 11.4) / x86_64 | OK | WARNINGS |  | 
| liverpool | Windows Server 2003 R2 (32-bit) / x64 | OK | WARNINGS | OK | 
| petty | Mac OS X Snow Leopard (10.6.7) / i386 | OK | WARNINGS | [ OK ] | 
>>>>>>> 
>>>>>>> INSTALLATION WITH 'R CMD INSTALL --preclean --library=ppiData.buildbin-libdir ppiData_0.1.14.tar.gz'
>>>>>>> 
* installing *source* package 'ppiData' ...
** R
** data
**  moving datasets to lazyload DB
** inst
** preparing package for lazy loading
** help
*** installing help indices
** building package indices ...
*** tangling vignette sources ...
   'ppiStats.Rnw' 
** testing if installed package can be loaded
* DONE (ppiData)