| pasilla 0.2.9 Alejandro Reyes
 
 | Snapshot Date: 2012-03-23 11:15:09 -0700 (Fri, 23 Mar 2012) |  | URL: https://hedgehog.fhcrc.org/bioc-data/trunk/experiment/pkgs/pasilla |  | Last Changed Rev: 1926 / Revision: 2028 |  | Last Changed Date: 2012-02-11 04:39:31 -0800 (Sat, 11 Feb 2012) | 
 | wilson2 | Linux (openSUSE 11.4) / x86_64 | OK | WARNINGS |  | 
| moscato1 | Windows Server 2008 R2 Enterprise SP1 (64-bit) / x64 | OK | WARNINGS | [ OK ] | 
| pitt | Mac OS X Leopard (10.5.8) / i386 | OK | WARNINGS | OK | 
install for i386
* installing *source* package 'pasilla' ...
** data
** inst
** help
*** installing help indices
** building package indices ...
Loading required package: Biobase
Welcome to Bioconductor
  Vignettes contain introductory material. To view, type
  'browseVignettes()'. To cite Bioconductor, see
  'citation("Biobase")' and for packages 'citation("pkgname")'.
*** tangling vignette sources ...
   'create_objects.Rnw' 
** testing if installed package can be loaded
locfit 1.5-6 	 2010-01-20 
add DLL for x64
* installing *source* package 'pasilla' ...
** testing if installed package can be loaded
locfit 1.5-6 	 2010-01-20 
* MD5 sums
packaged installation of 'pasilla' as pasilla_0.2.9.zip
* DONE (pasilla)