| Back to the "Multiple platform build/check report" | 
| Package 49/98 | Hostname | OS / Arch | BUILD | CHECK | BUILD BIN | ||||
| hapmapsnp6 1.3.3 Benilton Carvalho 
 | wilson2 | Linux (openSUSE 11.4) / x86_64 | OK | OK | |||||
| liverpool | Windows Server 2003 R2 (32-bit) / x64 | [ OK ] | OK | OK | |||||
| pitt | Mac OS X Leopard (10.5.8) / i386 | OK | OK | OK | 
| Package: hapmapsnp6 | 
| Version: 1.3.3 | 
| Command: chmod a+r hapmapsnp6 -R && E:\biocbld\bbs-2.9-bioc\R\bin\R.exe CMD build --keep-empty-dirs --no-resave-data hapmapsnp6 | 
| StartedAt: 2011-07-06 14:07:02 -0700 (Wed, 06 Jul 2011) | 
| EndedAt: 2011-07-06 14:08:36 -0700 (Wed, 06 Jul 2011) | 
| EllapsedTime: 94.0 seconds | 
| RetCode: 0 | 
| Status: OK | 
| PackageFile: hapmapsnp6_1.3.3.tar.gz | 
| PackageFileSize: 83.8 MiB | 
* checking for file 'hapmapsnp6/DESCRIPTION' ... OK * preparing 'hapmapsnp6': * checking DESCRIPTION meta-information ... OK * checking for LF line-endings in source and make files * checking for empty or unneeded directories * building 'hapmapsnp6_1.3.3.tar.gz'