gcspikelite 1.0.4 Mark Robinson
 | Snapshot Date: 2011-07-06 11:15:18 -0700 (Wed, 06 Jul 2011) |  | URL: https://hedgehog.fhcrc.org/bioc-data/trunk/experiment/pkgs/gcspikelite |  | Last Changed Rev: 1368 / Revision: 1678 |  | Last Changed Date: 2010-10-16 09:36:58 -0700 (Sat, 16 Oct 2010) |  
  | wilson2  | Linux (openSUSE 11.4) / x86_64  |  OK  |  WARNINGS  |  | 
| liverpool  | Windows Server 2003 R2 (32-bit) / x64  |  OK  |  WARNINGS  | [ OK ] | 
| pitt  | Mac OS X Leopard (10.5.8) / i386  |  OK  |  WARNINGS  |  OK  | 
* installing *source* package 'gcspikelite' ...
** R
** data
** preparing package for lazy loading
** help
*** installing help indices
** building package indices ...
** testing if installed package can be loaded
* MD5 sums
packaged installation of 'gcspikelite' as gcspikelite_1.0.4.zip
* DONE (gcspikelite)