| frmaExampleData 0.99.0 Matthew N. McCall
 
 | Snapshot Date: 2011-07-01 11:15:06 -0700 (Fri, 01 Jul 2011) |  | URL: https://hedgehog.fhcrc.org/bioc-data/trunk/experiment/pkgs/frmaExampleData |  | Last Changed Rev: 1134 / Revision: 1675 |  | Last Changed Date: 2010-02-03 13:37:59 -0800 (Wed, 03 Feb 2010) | 
 | wilson2 | Linux (openSUSE 11.4) / x86_64 | OK | OK |  | 
| liverpool | Windows Server 2003 R2 (32-bit) / x64 | OK | OK | OK | 
| petty | Mac OS X Snow Leopard (10.6.7) / i386 | [ OK ] | OK | OK | 
* checking for file 'frmaExampleData/DESCRIPTION' ... OK
* preparing 'frmaExampleData':
* checking DESCRIPTION meta-information ... OK
* checking for LF line-endings in source and make files
* checking for empty or unneeded directories
* looking to see if a 'data/datalist' file should be added
* building 'frmaExampleData_0.99.0.tar.gz'