flowWorkspace 0.99.11 Greg Finak
 | Snapshot Date: 2011-07-06 19:21:50 -0700 (Wed, 06 Jul 2011) |  | URL: https://hedgehog.fhcrc.org/bioconductor/trunk/madman/Rpacks/flowWorkspace |  | Last Changed Rev: 56181 / Revision: 56603 |  | Last Changed Date: 2011-06-14 17:49:10 -0700 (Tue, 14 Jun 2011) |  
  | wilson2  | Linux (openSUSE 11.4) / x86_64  |  OK  |  OK  |  | 
| liverpool  | Windows Server 2003 R2 (32-bit) / x64  |  OK  |  ERROR  |  OK  | 
| gewurz  | Windows Server 2008 R2 Enterprise (64-bit) / x64  |  OK  |  OK  | [ OK ] | 
| moscato1  | Windows Server 2008 R2 Enterprise (64-bit) / x64  |  OK  |  OK  |  OK  | 
| pitt  | Mac OS X Leopard (10.5.8) / i386  |  ERROR  |  skipped  |  skipped  | 
* installing *source* package 'flowWorkspace' ...
   **********************************************
   WARNING: this package has a configure script
         It probably needs manual configuration
   **********************************************
** libs
x86_64-w64-mingw32-gcc  -I"D:/biocbld/bbs-2.9-bioc/R/include"       -O2 -Wall  -std=gnu99   -O2 -Wall  -std=gnu99 -c bitOps.c -o bitOps.o
x86_64-w64-mingw32-gcc  -I"D:/biocbld/bbs-2.9-bioc/R/include"       -O2 -Wall  -std=gnu99   -O2 -Wall  -std=gnu99 -c init.c -o init.o
x86_64-w64-mingw32-gcc  -I"D:/biocbld/bbs-2.9-bioc/R/include"       -O2 -Wall  -std=gnu99   -O2 -Wall  -std=gnu99 -c netCDF.c -o netCDF.o
x86_64-w64-mingw32-gcc -shared -s -static-libgcc -o flowWorkspace.dll tmp.def bitOps.o init.o netCDF.o -lm -LD:/biocbld/bbs-2.9-bioc/R/bin/x64 -lR
installing to D:/biocbld/bbs-2.9-bioc/meat/flowWorkspace.buildbin-libdir/flowWorkspace/libs/x64
** R
** inst
** preparing package for lazy loading
Loading required package: graph
Attaching package: 'XML'
The following object(s) are masked from 'package:graph':
    addNode
Loading required package: Biobase
Welcome to Bioconductor
  Vignettes contain introductory material. To view, type
  'browseVignettes()'. To cite Bioconductor, see
  'citation("Biobase")' and for packages 'citation("pkgname")'.
Loading required package: rrcov
Loading required package: robustbase
Loading required package: pcaPP
Loading required package: mvtnorm
Scalable Robust Estimators with High Breakdown Point (version 1.3-01)
Attaching package: 'flowCore'
The following object(s) are masked from 'package:stats':
    alias, filter
Loading required package: lattice
KernSmooth 2.23 loaded
Copyright M. P. Wand 1997-2009
Loading required package: grid
Warning in fun(...) :
  Rgraphviz built with Graphviz version 2.20.3.
Found installed Graphviz version 2.25.20090912.445. This _may_ cause problems.
Creating a generic function for "lapply" from package "base" in package "flowWorkspace"
** help
*** installing help indices
** building package indices ...
*** tangling vignette sources ...
   'flowWorkspace.Rnw' 
** testing if installed package can be loaded
Scalable Robust Estimators with High Breakdown Point (version 1.3-01)
Warning message:
In fun(...) : Rgraphviz built with Graphviz version 2.20.3.
Found installed Graphviz version 2.25.20090912.445. This _may_ cause problems.
* MD5 sums
packaged installation of 'flowWorkspace' as flowWorkspace_0.99.11.zip
* DONE (flowWorkspace)