| beadarraySNP 1.19.0 Jan Oosting
 
 | Snapshot Date: 2011-05-09 07:20:56 -0700 (Mon, 09 May 2011) |  | URL: https://hedgehog.fhcrc.org/bioconductor/trunk/madman/Rpacks/beadarraySNP |  | Last Changed Rev: 54802 / Revision: 55359 |  | Last Changed Date: 2011-04-13 15:36:43 -0700 (Wed, 13 Apr 2011) | 
 | wilson2 | Linux (openSUSE 11.4) / x86_64 | OK | OK |  | 
| liverpool | Windows Server 2003 R2 (32-bit) / x64 | OK | OK | OK | 
| gewurz | Windows Server 2008 R2 Enterprise (64-bit) / x64 | OK | OK | OK | 
| pelham | Mac OS X Leopard (10.5.8) / i386 | OK | OK | [ OK ] | 
>>>>>>> 
>>>>>>> INSTALLATION WITH 'R CMD INSTALL --preclean --library=beadarraySNP.buildbin-libdir beadarraySNP_1.19.0.tar.gz'
>>>>>>> 
* installing *source* package ‘beadarraySNP’ ...
** R
** data
** inst
** preparing package for lazy loading
Welcome to Bioconductor
  Vignettes contain introductory material. To view, type
  'browseVignettes()'. To cite Bioconductor, see
  'citation("Biobase")' and for packages 'citation("pkgname")'.
Loading required package: quantreg
Loading required package: SparseM
Package SparseM (0.89) loaded.
	   To cite, see citation("SparseM")
Attaching package: ‘SparseM’
The following object(s) are masked from ‘package:base’:
    backsolve
Loading required package: lodplot
Loading required package: grid
** help
*** installing help indices
** building package indices ...
*** tangling vignette sources ...
   ‘beadarraySNP.rnw’ 
** testing if installed package can be loaded
* DONE (beadarraySNP)