| Back to the "Multiple platform build/check report" | A B C D E F G H I J K L M N O P Q R [S] T U V W X Y Z |
| Package 414/462 | Hostname | OS / Arch | BUILD | CHECK | BUILD BIN | ||||
| SJava 0.79.0 Martin Morgan
| wilson2 | Linux (openSUSE 11.4) / x86_64 | [ OK ] | OK | |||||
| liverpool | Windows Server 2003 R2 (32-bit) / x64 | N O T S U P P O R T E D | |||||||
| gewurz | Windows Server 2008 R2 Enterprise (64-bit) / x64 | N O T S U P P O R T E D | |||||||
| pelham | Mac OS X Leopard (10.5.8) / i386 | N O T S U P P O R T E D | |||||||
| Package: SJava |
| Version: 0.79.0 |
| Command: /home/biocbuild/bbs-2.9-bioc/R/bin/R CMD build --keep-empty-dirs --no-resave-data SJava |
| StartedAt: 2011-05-09 10:15:12 -0700 (Mon, 09 May 2011) |
| EndedAt: 2011-05-09 10:15:12 -0700 (Mon, 09 May 2011) |
| EllapsedTime: 0.8 seconds |
| RetCode: 0 |
| Status: OK |
| PackageFile: SJava_0.79.0.tar.gz |
| PackageFileSize: 2.11 MiB |
* checking for file ‘SJava/DESCRIPTION’ ... OK * preparing ‘SJava’: * checking DESCRIPTION meta-information ... OK * cleaning src * checking for LF line-endings in source and make files * checking for empty or unneeded directories * building ‘SJava_0.79.0.tar.gz’