simpIntLists 0.99.0 Kircicegi Korkmaz
 | Snapshot Date: 2011-07-02 23:15:14 -0700 (Sat, 02 Jul 2011) |  | URL: https://hedgehog.fhcrc.org/bioc-data/trunk/experiment/pkgs/simpIntLists |  | Last Changed Rev: 1466 / Revision: 1676 |  | Last Changed Date: 2011-03-24 13:25:09 -0700 (Thu, 24 Mar 2011) |  
  | lamb1  | Linux (openSUSE 11.3) / x86_64  |  OK  |  OK  |  | 
| gewurz  | Windows Server 2008 R2 Enterprise (64-bit) / x64  |  OK  |  WARNINGS  |  OK  | 
| petty  | Mac OS X Snow Leopard (10.6.7) / i386  |  OK  |  OK  | [ OK ] | 
>>>>>>> 
>>>>>>> INSTALLATION WITH 'R CMD INSTALL --preclean --library=simpIntLists.buildbin-libdir simpIntLists_0.99.0.tar.gz'
>>>>>>> 
* installing *source* package 'simpIntLists' ...
** R
** data
** inst
** preparing package for lazy loading
** help
*** installing help indices
** building package indices ...
** testing if installed package can be loaded
* DONE (simpIntLists)