| hgu2beta7 1.2.2 Biocore Team c/o BioC user list
 
 | Snapshot Date: 2011-10-18 23:15:16 -0700 (Tue, 18 Oct 2011) |  | URL: https://hedgehog.fhcrc.org/bioc-data/trunk/experiment/pkgs/hgu2beta7 |  | Last Changed Rev: 782 / Revision: 1763 |  | Last Changed Date: 2009-05-08 12:29:52 -0700 (Fri, 08 May 2009) | 
 | lamb1 | Linux (openSUSE 11.3) / x86_64 | OK | WARNINGS |  | 
| gewurz | Windows Server 2008 R2 Enterprise SP1 (64-bit) / x64 | OK | WARNINGS | [ OK ] | 
| pelham | Mac OS X Leopard (10.5.8) / i386 | OK | WARNINGS | OK | 
* installing *source* package 'hgu2beta7' ...
** R
** data
**  moving datasets to lazyload DB
** preparing package for lazy loading
** help
*** installing help indices
** building package indices ...
** testing if installed package can be loaded
* MD5 sums
packaged installation of 'hgu2beta7' as hgu2beta7_1.2.2.zip
* DONE (hgu2beta7)