| Back to the "Multiple platform build/check report" |
| Package 49/98 | Hostname | OS / Arch | BUILD | CHECK | BUILD BIN | ||||
| hapmapsnp6 1.3.3 Benilton Carvalho
| lamb1 | Linux (openSUSE 11.3) / x86_64 | OK | OK | |||||
| gewurz | Windows Server 2008 R2 Enterprise (64-bit) / x64 | OK | OK | OK | |||||
| petty | Mac OS X Snow Leopard (10.6.7) / i386 | [ OK ] | OK | OK |
| Package: hapmapsnp6 |
| Version: 1.3.3 |
| Command: /Library/Frameworks/R.framework/Versions/2.13/Resources/bin/R CMD build --keep-empty-dirs --no-resave-data hapmapsnp6 |
| StartedAt: 2011-07-03 00:26:12 -0700 (Sun, 03 Jul 2011) |
| EndedAt: 2011-07-03 00:27:31 -0700 (Sun, 03 Jul 2011) |
| EllapsedTime: 78.6 seconds |
| RetCode: 0 |
| Status: OK |
| PackageFile: hapmapsnp6_1.3.3.tar.gz |
| PackageFileSize: 83.8 MiB |
* checking for file 'hapmapsnp6/DESCRIPTION' ... OK * preparing 'hapmapsnp6': * checking DESCRIPTION meta-information ... OK * checking for LF line-endings in source and make files * checking for empty or unneeded directories * building 'hapmapsnp6_1.3.3.tar.gz'