ccTutorial 1.0.17 Joern Toedling
 | Snapshot Date: 2011-10-18 23:15:16 -0700 (Tue, 18 Oct 2011) |  | URL: https://hedgehog.fhcrc.org/bioc-data/trunk/experiment/pkgs/ccTutorial |  | Last Changed Rev: 1044 / Revision: 1763 |  | Last Changed Date: 2009-10-13 18:55:23 -0700 (Tue, 13 Oct 2009) |  
  | lamb1  | Linux (openSUSE 11.3) / x86_64  | [ OK ] |  WARNINGS  |  | 
| gewurz  | Windows Server 2008 R2 Enterprise SP1 (64-bit) / x64  |  OK  |  WARNINGS  |  OK  | 
| pelham  | Mac OS X Leopard (10.5.8) / i386  |  OK  |  WARNINGS  |  OK  | 
* checking for file ‘ccTutorial/DESCRIPTION’ ... OK
* preparing ‘ccTutorial’:
* checking DESCRIPTION meta-information ... OK
* installing the package to re-build vignettes
* creating vignettes ... OK
* checking for LF line-endings in source and make files
* checking for empty or unneeded directories
* looking to see if a 'data/datalist' file should be added
* building ‘ccTutorial_1.0.17.tar.gz’