| Back to the "Multiple platform build/check report" |
| Package 25/106 | Hostname | OS / Arch | BUILD | CHECK | BUILD BIN | ||||
| DLBCL 1.3.1 Marcus Dittrich
| lamb1 | Linux (openSUSE 11.3) / x86_64 | OK | OK | |||||
| gewurz | Windows Server 2008 R2 Enterprise SP1 (64-bit) / x64 | OK | OK | OK | |||||
| pelham | Mac OS X Leopard (10.5.8) / i386 | OK | OK | [ OK ] |
| Package: DLBCL |
| Version: 1.3.1 |
| Command: rm -rf DLBCL.buildbin-libdir && mkdir DLBCL.buildbin-libdir && /Users/biocbuild/BBS/utils/build-universal.sh DLBCL_1.3.1.tar.gz /Library/Frameworks/R.framework/Versions/2.13/Resources/bin/R DLBCL.buildbin-libdir |
| StartedAt: 2011-10-19 01:48:19 -0700 (Wed, 19 Oct 2011) |
| EndedAt: 2011-10-19 01:48:25 -0700 (Wed, 19 Oct 2011) |
| EllapsedTime: 5.8 seconds |
| RetCode: 0 |
| Status: OK |
| PackageFile: DLBCL_1.3.1.tgz |
| PackageFileSize: 5.533 MiB |
>>>>>>> >>>>>>> INSTALLATION WITH 'R CMD INSTALL --preclean --library=DLBCL.buildbin-libdir DLBCL_1.3.1.tar.gz' >>>>>>> * installing *source* package 'DLBCL' ... ** data ** help *** installing help indices ** building package indices ... ** testing if installed package can be loaded * DONE (DLBCL)