| SpikeIn 1.4.4 Rafael A. Irizarry
 
 | Snapshot Date: 2011-07-02 23:15:14 -0700 (Sat, 02 Jul 2011) |  | URL: https://hedgehog.fhcrc.org/bioc-data/trunk/experiment/pkgs/SpikeIn |  | Last Changed Rev: 1055 / Revision: 1676 |  | Last Changed Date: 2009-10-13 23:31:49 -0700 (Tue, 13 Oct 2009) | 
 | lamb1 | Linux (openSUSE 11.3) / x86_64 | OK | WARNINGS |  | 
| gewurz | Windows Server 2008 R2 Enterprise (64-bit) / x64 | OK | WARNINGS | OK | 
| petty | Mac OS X Snow Leopard (10.6.7) / i386 | OK | WARNINGS | [ OK ] | 
>>>>>>> 
>>>>>>> INSTALLATION WITH 'R CMD INSTALL --preclean --library=SpikeIn.buildbin-libdir SpikeIn_1.4.4.tar.gz'
>>>>>>> 
* installing *source* package 'SpikeIn' ...
** R
** data
** preparing package for lazy loading
Loading required package: Biobase
Welcome to Bioconductor
  Vignettes contain introductory material. To view, type
  'browseVignettes()'. To cite Bioconductor, see
  'citation("Biobase")' and for packages 'citation("pkgname")'.
** help
*** installing help indices
** building package indices ...
** testing if installed package can be loaded
* DONE (SpikeIn)