GenomicFeatures.Hsapiens.UCSC.hg18 0.1.3 Biocore Data Team
 | Snapshot Date: 2011-02-01 00:25:05 -0800 (Tue, 01 Feb 2011) |  | URL: https://hedgehog.fhcrc.org/bioc-data/trunk/experiment/pkgs/GenomicFeatures.Hsapiens.UCSC.hg18 |  | Last Changed Rev: 1378 / Revision: 1435 |  | Last Changed Date: 2010-10-28 18:19:25 -0700 (Thu, 28 Oct 2010) |  
  | lamb1  | Linux (openSUSE 11.3) / x86_64  |  OK  |  OK  |  | 
| gewurz  | Windows Server 2008 R2 Enterprise (64-bit) / x64  |  OK  |  OK  | [ OK ] | 
| pelham  | Mac OS X Leopard (10.5.8) / i386  |  OK  |  OK  |  OK  | 
| petty  | Mac OS X Snow Leopard (10.6.4) / i386  |  OK  |  OK  |  OK  | 
* installing *source* package 'GenomicFeatures.Hsapiens.UCSC.hg18' ...
** R
** inst
** preparing package for lazy loading
Loading required package: IRanges
Attaching package: 'IRanges'
The following object(s) are masked from 'package:base':
    Map, cbind, eval, mapply, order, paste, pmax, pmax.int, pmin,
    pmin.int, rbind, rep.int, table
Loading required package: GenomicRanges
** help
*** installing help indices
** building package indices ...
** testing if installed package can be loaded
* MD5 sums
packaged installation of 'GenomicFeatures.Hsapiens.UCSC.hg18' as GenomicFeatures.Hsapiens.UCSC.hg18_0.1.3.zip
* DONE (GenomicFeatures.Hsapiens.UCSC.hg18)