| ALLMLL 1.2.8 B. M. Bolstad
 
 | Snapshot Date: 2011-07-02 23:15:14 -0700 (Sat, 02 Jul 2011) |  | URL: https://hedgehog.fhcrc.org/bioc-data/trunk/experiment/pkgs/ALLMLL |  | Last Changed Rev: 1371 / Revision: 1676 |  | Last Changed Date: 2010-10-18 10:32:00 -0700 (Mon, 18 Oct 2010) | 
 | lamb1 | Linux (openSUSE 11.3) / x86_64 | OK | WARNINGS |  | 
| gewurz | Windows Server 2008 R2 Enterprise (64-bit) / x64 | OK | WARNINGS | OK | 
| petty | Mac OS X Snow Leopard (10.6.7) / i386 | OK | WARNINGS | [ OK ] | 
>>>>>>> 
>>>>>>> INSTALLATION WITH 'R CMD INSTALL --preclean --library=ALLMLL.buildbin-libdir ALLMLL_1.2.8.tar.gz'
>>>>>>> 
* installing *source* package 'ALLMLL' ...
** data
** help
*** installing help indices
** building package indices ...
** testing if installed package can be loaded
* DONE (ALLMLL)