| ALL 1.4.8 Robert Gentleman
 
 | Snapshot Date: 2011-10-18 23:15:16 -0700 (Tue, 18 Oct 2011) |  | URL: https://hedgehog.fhcrc.org/bioc-data/trunk/experiment/pkgs/ALL |  | Last Changed Rev: 1684 / Revision: 1763 |  | Last Changed Date: 2011-07-07 16:13:49 -0700 (Thu, 07 Jul 2011) | 
 | lamb1 | Linux (openSUSE 11.3) / x86_64 | OK | WARNINGS |  | 
| gewurz | Windows Server 2008 R2 Enterprise SP1 (64-bit) / x64 | OK | WARNINGS | OK | 
| pelham | Mac OS X Leopard (10.5.8) / i386 | OK | WARNINGS | [ OK ] | 
>>>>>>> 
>>>>>>> INSTALLATION WITH 'R CMD INSTALL --preclean --library=ALL.buildbin-libdir ALL_1.4.8.tar.gz'
>>>>>>> 
* installing *source* package 'ALL' ...
** R
** data
** inst
** preparing package for lazy loading
** help
*** installing help indices
** building package indices ...
** testing if installed package can be loaded
* DONE (ALL)