| Back to the "Multiple platform build/check report" |
| Package 63/92 | Hostname | OS / Arch | BUILD | CHECK | BUILD BIN | ||||
| lungExpression 0.0.10 Robert Scharpf
| lamb2 | Linux (openSUSE 11.2) / x86_64 | [ OK ] | OK | |||||
| gewurz | Windows Server 2008 R2 Enterprise (64-bit) / x64 | OK | OK | OK | |||||
| petty | Mac OS X Snow Leopard (10.6.6) / i386 | OK | OK | OK |
| Package: lungExpression |
| Version: 0.0.10 |
| Command: /home/biocbuild/bbs-2.7-bioc/R/bin/R CMD build lungExpression |
| StartedAt: 2011-04-06 13:44:18 -0700 (Wed, 06 Apr 2011) |
| EndedAt: 2011-04-06 13:44:22 -0700 (Wed, 06 Apr 2011) |
| EllapsedTime: 3.5 seconds |
| RetCode: 0 |
| Status: OK |
| PackageFile: lungExpression_0.0.10.tar.gz |
| PackageFileSize: 5.681 MiB |
* checking for file ‘lungExpression/DESCRIPTION’ ... OK * preparing ‘lungExpression’: * checking DESCRIPTION meta-information ... OK * checking for LF line-endings in source and make files * checking for empty or unneeded directories * building ‘lungExpression_0.0.10.tar.gz’