| Back to the "Multiple platform build/check report" |
| Package 45/92 | Hostname | OS / Arch | BUILD | CHECK | BUILD BIN | ||||
| hapmapsnp5 1.3.3 Benilton Carvalho
| lamb2 | Linux (openSUSE 11.2) / x86_64 | [ OK ] | OK | |||||
| gewurz | Windows Server 2008 R2 Enterprise (64-bit) / x64 | OK | OK | OK | |||||
| petty | Mac OS X Snow Leopard (10.6.6) / i386 | OK | OK | OK |
| Package: hapmapsnp5 |
| Version: 1.3.3 |
| Command: /home/biocbuild/bbs-2.7-bioc/R/bin/R CMD build hapmapsnp5 |
| StartedAt: 2011-04-06 13:50:20 -0700 (Wed, 06 Apr 2011) |
| EndedAt: 2011-04-06 13:52:30 -0700 (Wed, 06 Apr 2011) |
| EllapsedTime: 130.6 seconds |
| RetCode: 0 |
| Status: OK |
| PackageFile: hapmapsnp5_1.3.3.tar.gz |
| PackageFileSize: 59.41 MiB |
* checking for file ‘hapmapsnp5/DESCRIPTION’ ... OK * preparing ‘hapmapsnp5’: * checking DESCRIPTION meta-information ... OK * checking for LF line-endings in source and make files * checking for empty or unneeded directories * building ‘hapmapsnp5_1.3.3.tar.gz’