| Back to the "Multiple platform build/check report" |
| Package 43/92 | Hostname | OS / Arch | BUILD | CHECK | BUILD BIN | ||||
| hapmap500knsp 1.3.3 Benilton Carvalho
| lamb2 | Linux (openSUSE 11.2) / x86_64 | [ OK ] | OK | |||||
| gewurz | Windows Server 2008 R2 Enterprise (64-bit) / x64 | OK | OK | OK | |||||
| petty | Mac OS X Snow Leopard (10.6.6) / i386 | OK | OK | OK |
| Package: hapmap500knsp |
| Version: 1.3.3 |
| Command: /home/biocbuild/bbs-2.7-bioc/R/bin/R CMD build hapmap500knsp |
| StartedAt: 2011-04-06 13:45:51 -0700 (Wed, 06 Apr 2011) |
| EndedAt: 2011-04-06 13:49:03 -0700 (Wed, 06 Apr 2011) |
| EllapsedTime: 192.5 seconds |
| RetCode: 0 |
| Status: OK |
| PackageFile: hapmap500knsp_1.3.3.tar.gz |
| PackageFileSize: 80.39 MiB |
* checking for file ‘hapmap500knsp/DESCRIPTION’ ... OK * preparing ‘hapmap500knsp’: * checking DESCRIPTION meta-information ... OK * checking for LF line-endings in source and make files * checking for empty or unneeded directories * building ‘hapmap500knsp_1.3.3.tar.gz’