| Back to the "Multiple platform build/check report" |
| Package 41/92 | Hostname | OS / Arch | BUILD | CHECK | BUILD BIN | ||||
| hapmap100khind 1.3.32 Benilton Carvalho
| lamb2 | Linux (openSUSE 11.2) / x86_64 | [ OK ] | OK | |||||
| gewurz | Windows Server 2008 R2 Enterprise (64-bit) / x64 | OK | OK | OK | |||||
| petty | Mac OS X Snow Leopard (10.6.6) / i386 | OK | OK | OK |
| Package: hapmap100khind |
| Version: 1.3.32 |
| Command: /home/biocbuild/bbs-2.7-bioc/R/bin/R CMD build hapmap100khind |
| StartedAt: 2011-04-06 13:45:50 -0700 (Wed, 06 Apr 2011) |
| EndedAt: 2011-04-06 13:46:57 -0700 (Wed, 06 Apr 2011) |
| EllapsedTime: 66.7 seconds |
| RetCode: 0 |
| Status: OK |
| PackageFile: hapmap100khind_1.3.32.tar.gz |
| PackageFileSize: 38.04 MiB |
* checking for file ‘hapmap100khind/DESCRIPTION’ ... OK * preparing ‘hapmap100khind’: * checking DESCRIPTION meta-information ... OK * checking for LF line-endings in source and make files * checking for empty or unneeded directories * building ‘hapmap100khind_1.3.32.tar.gz’