| Back to the "Multiple platform build/check report" |
| Package 38/92 | Hostname | OS / Arch | BUILD | CHECK | BUILD BIN | ||||
| geneLenDataBase 0.99.7 Matthew Young
| lamb2 | Linux (openSUSE 11.2) / x86_64 | [ OK ] | ERROR | |||||
| gewurz | Windows Server 2008 R2 Enterprise (64-bit) / x64 | OK | ERROR | ERROR | |||||
| petty | Mac OS X Snow Leopard (10.6.6) / i386 | OK | ERROR | ERROR |
| Package: geneLenDataBase |
| Version: 0.99.7 |
| Command: /home/biocbuild/bbs-2.7-bioc/R/bin/R CMD build geneLenDataBase |
| StartedAt: 2011-04-06 14:01:27 -0700 (Wed, 06 Apr 2011) |
| EndedAt: 2011-04-06 14:01:39 -0700 (Wed, 06 Apr 2011) |
| EllapsedTime: 12.5 seconds |
| RetCode: 0 |
| Status: OK |
| PackageFile: geneLenDataBase_0.99.7.tar.gz |
| PackageFileSize: 95.77 MiB |
* checking for file ‘geneLenDataBase/DESCRIPTION’ ... OK * preparing ‘geneLenDataBase’: * checking DESCRIPTION meta-information ... OK * checking for LF line-endings in source and make files * checking for empty or unneeded directories * building ‘geneLenDataBase_0.99.7.tar.gz’