| Back to the "Multiple platform build/check report" |
| Package 37/92 | Hostname | OS / Arch | BUILD | CHECK | BUILD BIN | ||||
| gcspikelite 1.0.4 Mark Robinson
| lamb2 | Linux (openSUSE 11.2) / x86_64 | [ OK ] | OK | |||||
| gewurz | Windows Server 2008 R2 Enterprise (64-bit) / x64 | OK | OK | OK | |||||
| petty | Mac OS X Snow Leopard (10.6.6) / i386 | OK | OK | OK |
| Package: gcspikelite |
| Version: 1.0.4 |
| Command: /home/biocbuild/bbs-2.7-bioc/R/bin/R CMD build gcspikelite |
| StartedAt: 2011-04-06 13:57:49 -0700 (Wed, 06 Apr 2011) |
| EndedAt: 2011-04-06 13:58:43 -0700 (Wed, 06 Apr 2011) |
| EllapsedTime: 54.4 seconds |
| RetCode: 0 |
| Status: OK |
| PackageFile: gcspikelite_1.0.4.tar.gz |
| PackageFileSize: 21.59 MiB |
* checking for file ‘gcspikelite/DESCRIPTION’ ... OK * preparing ‘gcspikelite’: * checking DESCRIPTION meta-information ... OK * checking for LF line-endings in source and make files * checking for empty or unneeded directories * building ‘gcspikelite_1.0.4.tar.gz’