| Back to the "Multiple platform build/check report" | 
| Package 34/92 | Hostname | OS / Arch | BUILD | CHECK | BUILD BIN | ||||
| gageData 1.1.0 Weijun Luo 
 | lamb2 | Linux (openSUSE 11.2) / x86_64 | [ OK ] | OK | |||||
| gewurz | Windows Server 2008 R2 Enterprise (64-bit) / x64 | OK | OK | OK | |||||
| petty | Mac OS X Snow Leopard (10.6.6) / i386 | OK | OK | OK | 
| Package: gageData | 
| Version: 1.1.0 | 
| Command: /home/biocbuild/bbs-2.7-bioc/R/bin/R CMD build gageData | 
| StartedAt: 2011-04-06 14:03:03 -0700 (Wed, 06 Apr 2011) | 
| EndedAt: 2011-04-06 14:03:04 -0700 (Wed, 06 Apr 2011) | 
| EllapsedTime: 1.5 seconds | 
| RetCode: 0 | 
| Status: OK | 
| PackageFile: gageData_1.1.0.tar.gz | 
| PackageFileSize: 11.55 MiB | 
* checking for file ‘gageData/DESCRIPTION’ ... OK * preparing ‘gageData’: * checking DESCRIPTION meta-information ... OK * checking for LF line-endings in source and make files * checking for empty or unneeded directories * building ‘gageData_1.1.0.tar.gz’