| Back to the "Multiple platform build/check report" |
| Package 33/92 | Hostname | OS / Arch | BUILD | CHECK | BUILD BIN | ||||
| frmaExampleData 0.99.0 Matthew N. McCall
| lamb2 | Linux (openSUSE 11.2) / x86_64 | [ OK ] | OK | |||||
| gewurz | Windows Server 2008 R2 Enterprise (64-bit) / x64 | OK | OK | OK | |||||
| petty | Mac OS X Snow Leopard (10.6.6) / i386 | OK | OK | OK |
| Package: frmaExampleData |
| Version: 0.99.0 |
| Command: /home/biocbuild/bbs-2.7-bioc/R/bin/R CMD build frmaExampleData |
| StartedAt: 2011-04-06 14:00:00 -0700 (Wed, 06 Apr 2011) |
| EndedAt: 2011-04-06 14:00:03 -0700 (Wed, 06 Apr 2011) |
| EllapsedTime: 3.5 seconds |
| RetCode: 0 |
| Status: OK |
| PackageFile: frmaExampleData_0.99.0.tar.gz |
| PackageFileSize: 15.88 MiB |
* checking for file ‘frmaExampleData/DESCRIPTION’ ... OK * preparing ‘frmaExampleData’: * checking DESCRIPTION meta-information ... OK * checking for LF line-endings in source and make files * checking for empty or unneeded directories * building ‘frmaExampleData_0.99.0.tar.gz’