| Back to the "Multiple platform build/check report" |
| Package 22/92 | Hostname | OS / Arch | BUILD | CHECK | BUILD BIN | ||||
| davidTiling 1.2.12 Wolfgang Huber
| lamb2 | Linux (openSUSE 11.2) / x86_64 | [ OK ] | OK | |||||
| gewurz | Windows Server 2008 R2 Enterprise (64-bit) / x64 | OK | OK | OK | |||||
| petty | Mac OS X Snow Leopard (10.6.6) / i386 | OK | OK | OK |
| Package: davidTiling |
| Version: 1.2.12 |
| Command: /home/biocbuild/bbs-2.7-bioc/R/bin/R CMD build davidTiling |
| StartedAt: 2011-04-06 13:39:52 -0700 (Wed, 06 Apr 2011) |
| EndedAt: 2011-04-06 13:40:33 -0700 (Wed, 06 Apr 2011) |
| EllapsedTime: 41.0 seconds |
| RetCode: 0 |
| Status: OK |
| PackageFile: davidTiling_1.2.12.tar.gz |
| PackageFileSize: 537.7 MiB |
* checking for file ‘davidTiling/DESCRIPTION’ ... OK * preparing ‘davidTiling’: * checking DESCRIPTION meta-information ... OK * checking for LF line-endings in source and make files * checking for empty or unneeded directories * building ‘davidTiling_1.2.12.tar.gz’