| Back to the "Multiple platform build/check report" |
| Package 75/82 | Hostname | OS / Arch | BUILD | CHECK | BUILD BIN | ||||
| TargetSearchData 1.0.3 Alvaro Cuadros-Inostroza
| lamb2 | Linux (openSUSE 11.2) / x86_64 | OK | OK | |||||
| gewurz | Windows Server 2008 R2 Enterprise (64-bit) / x64 | OK | OK | OK | |||||
| pelham | Mac OS X Leopard (10.5.8) / i386 | [ OK ] | OK | OK |
| Package: TargetSearchData |
| Version: 1.0.3 |
| Command: /Library/Frameworks/R.framework/Versions/2.12/Resources/bin/R CMD build TargetSearchData |
| StartedAt: 2011-02-27 14:17:44 -0800 (Sun, 27 Feb 2011) |
| EndedAt: 2011-02-27 14:18:48 -0800 (Sun, 27 Feb 2011) |
| EllapsedTime: 63.6 seconds |
| RetCode: 0 |
| Status: OK |
| PackageFile: TargetSearchData_1.0.3.tar.gz |
| PackageFileSize: 29.81 MiB |
* checking for file ‘TargetSearchData/DESCRIPTION’ ... OK * preparing ‘TargetSearchData’: * checking DESCRIPTION meta-information ... OK * checking for LF line-endings in source and make files * checking for empty or unneeded directories * building ‘TargetSearchData_1.0.3.tar.gz’