| Back to the "Multiple platform build/check report" |
| Package 83/92 | Hostname | OS / Arch | BUILD | CHECK | BUILD BIN | ||||
| SpikeInSubset 1.2.8 Rafael A. Irizarry
| lamb2 | Linux (openSUSE 11.2) / x86_64 | [ OK ] | WARNINGS | |||||
| gewurz | Windows Server 2008 R2 Enterprise (64-bit) / x64 | OK | WARNINGS | OK | |||||
| petty | Mac OS X Snow Leopard (10.6.6) / i386 | OK | WARNINGS | OK |
| Package: SpikeInSubset |
| Version: 1.2.8 |
| Command: /home/biocbuild/bbs-2.7-bioc/R/bin/R CMD build SpikeInSubset |
| StartedAt: 2011-04-06 13:44:11 -0700 (Wed, 06 Apr 2011) |
| EndedAt: 2011-04-06 13:44:13 -0700 (Wed, 06 Apr 2011) |
| EllapsedTime: 2.5 seconds |
| RetCode: 0 |
| Status: OK |
| PackageFile: SpikeInSubset_1.2.8.tar.gz |
| PackageFileSize: 17.99 MiB |
* checking for file ‘SpikeInSubset/DESCRIPTION’ ... OK * preparing ‘SpikeInSubset’: * checking DESCRIPTION meta-information ... OK * checking for LF line-endings in source and make files * checking for empty or unneeded directories * building ‘SpikeInSubset_1.2.8.tar.gz’