| GenomicFeatures.Mmusculus.UCSC.mm9 0.1.3 Biocore Data Team
 
 | Snapshot Date: 2010-11-11 12:27:34 -0800 (Thu, 11 Nov 2010) |  | URL: https://hedgehog.fhcrc.org/bioc-data/trunk/experiment/pkgs/GenomicFeatures.Mmusculus.UCSC.mm9 |  | Last Changed Rev: 1379 / Revision: 1384 |  | Last Changed Date: 2010-10-28 18:20:36 -0700 (Thu, 28 Oct 2010) | 
 | lamb2 | Linux (openSUSE 11.2) / x86_64 | OK | OK |  | 
| liverpool | Windows Server 2003 R2 (32-bit) / x64 | [ OK ] | OK | OK | 
| pelham | Mac OS X Leopard (10.5.8) / i386 | OK | OK | OK | 
* checking for file 'GenomicFeatures.Mmusculus.UCSC.mm9/DESCRIPTION' ... OK
* preparing 'GenomicFeatures.Mmusculus.UCSC.mm9':
* checking DESCRIPTION meta-information ... OK
* checking for LF line-endings in source and make files
* checking for empty or unneeded directories
* building 'GenomicFeatures.Mmusculus.UCSC.mm9_0.1.3.tar.gz'