| Back to the "Multiple platform build/check report" |
| Package 20/92 | Hostname | OS / Arch | BUILD | CHECK | BUILD BIN | ||||
| CLL 1.2.8 Robert Gentleman
| lamb2 | Linux (openSUSE 11.2) / x86_64 | [ OK ] | OK | |||||
| gewurz | Windows Server 2008 R2 Enterprise (64-bit) / x64 | OK | OK | OK | |||||
| petty | Mac OS X Snow Leopard (10.6.6) / i386 | OK | OK | OK |
| Package: CLL |
| Version: 1.2.8 |
| Command: /home/biocbuild/bbs-2.7-bioc/R/bin/R CMD build CLL |
| StartedAt: 2011-04-06 13:39:48 -0700 (Wed, 06 Apr 2011) |
| EndedAt: 2011-04-06 13:39:50 -0700 (Wed, 06 Apr 2011) |
| EllapsedTime: 1.5 seconds |
| RetCode: 0 |
| Status: OK |
| PackageFile: CLL_1.2.8.tar.gz |
| PackageFileSize: 15.89 MiB |
* checking for file ‘CLL/DESCRIPTION’ ... OK * preparing ‘CLL’: * checking DESCRIPTION meta-information ... OK * checking for LF line-endings in source and make files * checking for empty or unneeded directories * building ‘CLL_1.2.8.tar.gz’