| Back to the "Multiple platform build/check report" |
| Package 5/84 | Hostname | OS / Arch | BUILD | CHECK | BUILD BIN | ||||
| AmpAffyExample 1.2.5 Rafael A. Irizarry
| lamb2 | Linux (openSUSE 11.2) / x86_64 | OK | OK | |||||
| liverpool | Windows Server 2003 R2 (32-bit) / x64 | [ OK ] | OK | OK | |||||
| pelham | Mac OS X Leopard (10.5.8) / i386 | OK | OK | OK |
| Package: AmpAffyExample |
| Version: 1.2.5 |
| Command: chmod a+r AmpAffyExample -R && E:\biocbld\bbs-2.7-bioc\R\bin\R.exe CMD build AmpAffyExample |
| StartedAt: 2010-11-11 14:28:19 -0800 (Thu, 11 Nov 2010) |
| EndedAt: 2010-11-11 14:28:23 -0800 (Thu, 11 Nov 2010) |
| EllapsedTime: 4.5 seconds |
| RetCode: 0 |
| Status: OK |
| PackageFile: AmpAffyExample_1.2.5.tar.gz |
| PackageFileSize: 6.464 MiB |
* checking for file 'AmpAffyExample/DESCRIPTION' ... OK * preparing 'AmpAffyExample': * checking DESCRIPTION meta-information ... OK * checking for LF line-endings in source and make files * checking for empty or unneeded directories * building 'AmpAffyExample_1.2.5.tar.gz'