| Back to the "Multiple platform build/check report" |
| Package 57/82 | Hostname | OS / Arch | BUILD | CHECK | BUILD BIN | ||||
| maqcExpression4plex 1.2.0 Benilton Carvalho
| lamb2 | Linux (openSUSE 11.2) / x86_64 | OK | OK | |||||
| gewurz | Windows Server 2008 R2 Enterprise (64-bit) / x64 | OK | OK | OK | |||||
| pelham | Mac OS X Leopard (10.5.8) / i386 | [ OK ] | OK | OK |
| Package: maqcExpression4plex |
| Version: 1.2.0 |
| Command: /Library/Frameworks/R.framework/Versions/2.12/Resources/bin/R CMD build maqcExpression4plex |
| StartedAt: 2011-02-27 14:05:26 -0800 (Sun, 27 Feb 2011) |
| EndedAt: 2011-02-27 14:05:39 -0800 (Sun, 27 Feb 2011) |
| EllapsedTime: 12.4 seconds |
| RetCode: 0 |
| Status: OK |
| PackageFile: maqcExpression4plex_1.2.0.tar.gz |
| PackageFileSize: 6.578 MiB |
* checking for file ‘maqcExpression4plex/DESCRIPTION’ ... OK * preparing ‘maqcExpression4plex’: * checking DESCRIPTION meta-information ... OK * checking for LF line-endings in source and make files * checking for empty or unneeded directories * building ‘maqcExpression4plex_1.2.0.tar.gz’