| Back to the "Multiple platform build/check report" |
| Package 46/82 | Hostname | OS / Arch | BUILD | CHECK | BUILD BIN | ||||
| hgu2beta7 1.2.2 Biocore Team c/o BioC user list
| lamb2 | Linux (openSUSE 11.2) / x86_64 | OK | WARNINGS | |||||
| gewurz | Windows Server 2008 R2 Enterprise (64-bit) / x64 | OK | WARNINGS | OK | |||||
| pelham | Mac OS X Leopard (10.5.8) / i386 | [ OK ] | WARNINGS | OK |
| Package: hgu2beta7 |
| Version: 1.2.2 |
| Command: /Library/Frameworks/R.framework/Versions/2.12/Resources/bin/R CMD build hgu2beta7 |
| StartedAt: 2011-02-27 14:03:01 -0800 (Sun, 27 Feb 2011) |
| EndedAt: 2011-02-27 14:03:04 -0800 (Sun, 27 Feb 2011) |
| EllapsedTime: 2.8 seconds |
| RetCode: 0 |
| Status: OK |
| PackageFile: hgu2beta7_1.2.2.tar.gz |
| PackageFileSize: 6.406 MiB |
* checking for file ‘hgu2beta7/DESCRIPTION’ ... OK * preparing ‘hgu2beta7’: * checking DESCRIPTION meta-information ... OK * checking for LF line-endings in source and make files * checking for empty or unneeded directories * building ‘hgu2beta7_1.2.2.tar.gz’