| Back to the "Multiple platform build/check report" |
| Package 30/82 | Hostname | OS / Arch | BUILD | CHECK | BUILD BIN | ||||
| gcspikelite 1.0.4 Mark Robinson
| lamb2 | Linux (openSUSE 11.2) / x86_64 | OK | OK | |||||
| gewurz | Windows Server 2008 R2 Enterprise (64-bit) / x64 | OK | OK | OK | |||||
| pelham | Mac OS X Leopard (10.5.8) / i386 | [ OK ] | OK | OK |
| Package: gcspikelite |
| Version: 1.0.4 |
| Command: /Library/Frameworks/R.framework/Versions/2.12/Resources/bin/R CMD build gcspikelite |
| StartedAt: 2011-02-27 14:16:53 -0800 (Sun, 27 Feb 2011) |
| EndedAt: 2011-02-27 14:18:51 -0800 (Sun, 27 Feb 2011) |
| EllapsedTime: 117.9 seconds |
| RetCode: 0 |
| Status: OK |
| PackageFile: gcspikelite_1.0.4.tar.gz |
| PackageFileSize: 21.59 MiB |
* checking for file ‘gcspikelite/DESCRIPTION’ ... OK * preparing ‘gcspikelite’: * checking DESCRIPTION meta-information ... OK * checking for LF line-endings in source and make files * checking for empty or unneeded directories * building ‘gcspikelite_1.0.4.tar.gz’