| Back to the "Multiple platform build/check report" |
| Package 15/82 | Hostname | OS / Arch | BUILD | CHECK | BUILD BIN | ||||
| davidTiling 1.2.12 Wolfgang Huber
| lamb2 | Linux (openSUSE 11.2) / x86_64 | OK | OK | |||||
| gewurz | Windows Server 2008 R2 Enterprise (64-bit) / x64 | OK | OK | OK | |||||
| pelham | Mac OS X Leopard (10.5.8) / i386 | [ OK ] | OK | OK |
| Package: davidTiling |
| Version: 1.2.12 |
| Command: /Library/Frameworks/R.framework/Versions/2.12/Resources/bin/R CMD build davidTiling |
| StartedAt: 2011-02-27 13:59:12 -0800 (Sun, 27 Feb 2011) |
| EndedAt: 2011-02-27 14:01:53 -0800 (Sun, 27 Feb 2011) |
| EllapsedTime: 161.0 seconds |
| RetCode: 0 |
| Status: OK |
| PackageFile: davidTiling_1.2.12.tar.gz |
| PackageFileSize: 537.7 MiB |
* checking for file ‘davidTiling/DESCRIPTION’ ... OK * preparing ‘davidTiling’: * checking DESCRIPTION meta-information ... OK * checking for LF line-endings in source and make files * checking for empty or unneeded directories * building ‘davidTiling_1.2.12.tar.gz’