| Back to the "Multiple platform build/check report" |
| Package 7/82 | Hostname | OS / Arch | BUILD | CHECK | BUILD BIN | ||||
| bronchialIL13 1.0-6 Vince Carey
| lamb2 | Linux (openSUSE 11.2) / x86_64 | OK | OK | |||||
| gewurz | Windows Server 2008 R2 Enterprise (64-bit) / x64 | OK | OK | OK | |||||
| pelham | Mac OS X Leopard (10.5.8) / i386 | [ OK ] | OK | OK |
| Package: bronchialIL13 |
| Version: 1.0-6 |
| Command: /Library/Frameworks/R.framework/Versions/2.12/Resources/bin/R CMD build bronchialIL13 |
| StartedAt: 2011-02-27 13:58:45 -0800 (Sun, 27 Feb 2011) |
| EndedAt: 2011-02-27 13:58:58 -0800 (Sun, 27 Feb 2011) |
| EllapsedTime: 12.8 seconds |
| RetCode: 0 |
| Status: OK |
| PackageFile: bronchialIL13_1.0-6.tar.gz |
| PackageFileSize: 69.13 MiB |
* checking for file ‘bronchialIL13/DESCRIPTION’ ... OK * preparing ‘bronchialIL13’: * checking DESCRIPTION meta-information ... OK * checking for LF line-endings in source and make files * checking for empty or unneeded directories * building ‘bronchialIL13_1.0-6.tar.gz’