| Back to the "Multiple platform build/check report" |
| Package 73/82 | Hostname | OS / Arch | BUILD | CHECK | BUILD BIN | ||||
| SpikeInSubset 1.2.8 Rafael A. Irizarry
| lamb2 | Linux (openSUSE 11.2) / x86_64 | OK | WARNINGS | |||||
| gewurz | Windows Server 2008 R2 Enterprise (64-bit) / x64 | OK | WARNINGS | OK | |||||
| pelham | Mac OS X Leopard (10.5.8) / i386 | [ OK ] | WARNINGS | OK |
| Package: SpikeInSubset |
| Version: 1.2.8 |
| Command: /Library/Frameworks/R.framework/Versions/2.12/Resources/bin/R CMD build SpikeInSubset |
| StartedAt: 2011-02-27 14:04:00 -0800 (Sun, 27 Feb 2011) |
| EndedAt: 2011-02-27 14:04:05 -0800 (Sun, 27 Feb 2011) |
| EllapsedTime: 4.8 seconds |
| RetCode: 0 |
| Status: OK |
| PackageFile: SpikeInSubset_1.2.8.tar.gz |
| PackageFileSize: 17.99 MiB |
* checking for file ‘SpikeInSubset/DESCRIPTION’ ... OK * preparing ‘SpikeInSubset’: * checking DESCRIPTION meta-information ... OK * checking for LF line-endings in source and make files * checking for empty or unneeded directories * building ‘SpikeInSubset_1.2.8.tar.gz’