| MEEBOdata 1.0.0 Agnes Paquet
 
 | Snapshot Date: 2011-04-06 12:27:26 -0700 (Wed, 06 Apr 2011) |  | URL: https://hedgehog.fhcrc.org/bioc-data/trunk/experiment/pkgs/MEEBOdata |  | Last Changed Rev: 142 / Revision: 1510 |  | Last Changed Date: 2006-09-28 18:17:09 -0700 (Thu, 28 Sep 2006) | 
 | lamb2 | Linux (openSUSE 11.2) / x86_64 | OK | OK |  | 
| gewurz | Windows Server 2008 R2 Enterprise (64-bit) / x64 | OK | OK | OK | 
| petty | Mac OS X Snow Leopard (10.6.6) / i386 | OK | OK | [ OK ] | 
>>>>>>> 
>>>>>>> INSTALLATION WITH 'R CMD INSTALL --preclean --library=MEEBOdata.buildbin-libdir MEEBOdata_1.0.0.tar.gz'
>>>>>>> 
* installing *source* package 'MEEBOdata' ...
** data
** inst
** help
*** installing help indices
** building package indices ...
** testing if installed package can be loaded
* DONE (MEEBOdata)