| Back to the "Multiple platform build/check report" |
| Package 61/82 | Hostname | OS / Arch | BUILD | CHECK | BUILD BIN | ||||
| MEEBOdata 1.0.0 Agnes Paquet
| lamb2 | Linux (openSUSE 11.2) / x86_64 | OK | OK | |||||
| gewurz | Windows Server 2008 R2 Enterprise (64-bit) / x64 | OK | OK | OK | |||||
| pelham | Mac OS X Leopard (10.5.8) / i386 | [ OK ] | OK | OK |
| Package: MEEBOdata |
| Version: 1.0.0 |
| Command: /Library/Frameworks/R.framework/Versions/2.12/Resources/bin/R CMD build MEEBOdata |
| StartedAt: 2011-02-27 14:03:17 -0800 (Sun, 27 Feb 2011) |
| EndedAt: 2011-02-27 14:03:22 -0800 (Sun, 27 Feb 2011) |
| EllapsedTime: 5.8 seconds |
| RetCode: 0 |
| Status: OK |
| PackageFile: MEEBOdata_1.0.0.tar.gz |
| PackageFileSize: 6.867 MiB |
* checking for file ‘MEEBOdata/DESCRIPTION’ ... OK * preparing ‘MEEBOdata’: * checking DESCRIPTION meta-information ... OK * checking for LF line-endings in source and make files * checking for empty or unneeded directories * building ‘MEEBOdata_1.0.0.tar.gz’