facsDorit 1.4.2 Florian Hahne
 | Snapshot Date: 2010-09-24 00:28:34 -0700 (Fri, 24 Sep 2010) |  | URL: https://hedgehog.fhcrc.org/bioc-data/trunk/experiment/pkgs/facsDorit |  | Last Changed Rev: 959 / Revision: 1309 |  | Last Changed Date: 2009-09-10 11:19:18 -0700 (Thu, 10 Sep 2009) |  
  | wilson1  | Linux (openSUSE 11.1) / x86_64  |  OK  |  OK  |  | 
| liverpool  | Windows Server 2003 R2 (32-bit) / x64  |  OK  |  OK  |  OK  | 
| pelham  | Mac OS X Leopard (10.5.8) / i386  |  OK  |  OK  | [ OK ] | 
                INSTALLATION WITH 'R CMD INSTALL --preclean --library=facsDorit.buildbin-libdir facsDorit_1.4.2.tar.gz'
* installing *source* package ‘facsDorit’ ...
** R
** inst
** preparing package for lazy loading
Loading required package: Biobase
Welcome to Bioconductor
  Vignettes contain introductory material. To view, type
  'openVignette()'. To cite Bioconductor, see
  'citation("Biobase")' and for packages 'citation(pkgname)'.
Loading required package: RColorBrewer
Loading required package: grid
Loading required package: rrcov
Loading required package: robustbase
Loading required package: pcaPP
Loading required package: mvtnorm
Scalable Robust Estimators with High Breakdown Point (version 1.1-00)
** help
*** installing help indices
** building package indices ...
** testing if installed package can be loaded
* DONE (facsDorit)