| ceuhm3 0.0.3 VJ Carey
 
 | Snapshot Date: 2010-09-24 00:28:34 -0700 (Fri, 24 Sep 2010) |  | URL: https://hedgehog.fhcrc.org/bioc-data/trunk/experiment/pkgs/ceuhm3 |  | Last Changed Rev: 1284 / Revision: 1309 |  | Last Changed Date: 2010-08-17 18:03:45 -0700 (Tue, 17 Aug 2010) | 
 | wilson1 | Linux (openSUSE 11.1) / x86_64 | OK | OK |  | 
| liverpool | Windows Server 2003 R2 (32-bit) / x64 | OK | OK | [ OK ] | 
| pelham | Mac OS X Leopard (10.5.8) / i386 | OK | OK | OK | 
* installing *source* package 'ceuhm3' ...
  Using auto-selected zip option '--use-zip-data'
** data
** help
*** installing help indices
** building package indices ...
Loading required package: Biobase
Welcome to Bioconductor
  Vignettes contain introductory material. To view, type
  'openVignette()'. To cite Bioconductor, see
  'citation("Biobase")' and for packages 'citation(pkgname)'.
** testing if installed package can be loaded
* MD5 sums
packaged installation of 'ceuhm3' as ceuhm3_0.0.3.zip
* DONE (ceuhm3)