| flowCore 1.14.1 F. Hahne
 
 | Snapshot Date: 2010-10-04 11:22:20 -0700 (Mon, 04 Oct 2010) |  | URL: https://hedgehog.fhcrc.org/bioconductor/branches/RELEASE_2_6/madman/Rpacks/flowCore |  | Last Changed Rev: 46647 / Revision: 49923 |  | Last Changed Date: 2010-04-30 12:30:16 -0700 (Fri, 30 Apr 2010) | 
 | wilson1 | Linux (openSUSE 11.1) / x86_64 | OK | OK |  | 
| liverpool | Windows Server 2003 R2 (32-bit) / x64 | OK | OK | OK | 
| gewurz | Windows Server 2008 R2 Enterprise (64-bit) / x64 | OK | OK | [ OK ] | 
| pelham | Mac OS X Leopard (10.5.8) / i386 | OK | OK | OK | 
* installing *source* package 'flowCore' ...
  Using auto-selected zip option '--use-zip-data'
** libs
  making DLL ...
x86_64-w64-mingw32-gcc -I"D:/biocbld/bbs-2.6-bioc/R/include"         -O2 -Wall  -std=gnu99 -c biexponential.c -o biexponential.o
x86_64-w64-mingw32-gcc -I"D:/biocbld/bbs-2.6-bioc/R/include"         -O2 -Wall  -std=gnu99 -c inPolygon.c -o inPolygon.o
x86_64-w64-mingw32-gcc -I"D:/biocbld/bbs-2.6-bioc/R/include"         -O2 -Wall  -std=gnu99 -c inPolytope.c -o inPolytope.o
x86_64-w64-mingw32-gcc -I"D:/biocbld/bbs-2.6-bioc/R/include"         -O2 -Wall  -std=gnu99 -c init.c -o init.o
x86_64-w64-mingw32-gcc -shared -s -static-libgcc -o flowCore.dll tmp.def biexponential.o inPolygon.o inPolytope.o init.o -LD:/biocbld/bbs-2.6-bioc/R/bin -lR
installing to D:/biocbld/bbs-2.6-bioc/meat/flowCore.buildbin-libdir/flowCore/libs/x64
  ... done
** R
** data
** inst
** preparing package for lazy loading
Welcome to Bioconductor
  Vignettes contain introductory material. To view, type
  'openVignette()'. To cite Bioconductor, see
  'citation("Biobase")' and for packages 'citation(pkgname)'.
Loading required package: robustbase
Loading required package: pcaPP
Loading required package: mvtnorm
Scalable Robust Estimators with High Breakdown Point (version 1.1-00)
** help
*** installing help indices
** building package indices ...
** testing if installed package can be loaded
* MD5 sums
packaged installation of 'flowCore' as flowCore_1.14.1.zip
* DONE (flowCore)