ConsensusClusterPlus 1.0.1 Matt Wilkerson
 | Snapshot Date: 2010-10-04 11:22:20 -0700 (Mon, 04 Oct 2010) |  | URL: https://hedgehog.fhcrc.org/bioconductor/branches/RELEASE_2_6/madman/Rpacks/ConsensusClusterPlus |  | Last Changed Rev: 46827 / Revision: 49923 |  | Last Changed Date: 2010-05-13 13:35:54 -0700 (Thu, 13 May 2010) |  
  | wilson1  | Linux (openSUSE 11.1) / x86_64  |  OK  |  OK  |  | 
| liverpool  | Windows Server 2003 R2 (32-bit) / x64  |  OK  |  OK  |  OK  | 
| gewurz  | Windows Server 2008 R2 Enterprise (64-bit) / x64  |  OK  |  OK  |  OK  | 
| pelham  | Mac OS X Leopard (10.5.8) / i386  |  OK  |  OK  | [ OK ] | 
                INSTALLATION WITH 'R CMD INSTALL --preclean --library=ConsensusClusterPlus.buildbin-libdir ConsensusClusterPlus_1.0.1.tar.gz'
* installing *source* package ‘ConsensusClusterPlus’ ...
** R
** inst
** preparing package for lazy loading
** help
*** installing help indices
** building package indices ...
** testing if installed package can be loaded
* DONE (ConsensusClusterPlus)