| harbChIP 1.0.5 VJ Carey
 
 | Snapshot Date: 2010-04-02 12:27:31 -0700 (Fri, 02 Apr 2010) |  | URL: https://hedgehog.fhcrc.org/bioc-data/trunk/experiment/pkgs/harbChIP |  | Last Changed Rev: 1085 / Revision: 1201 |  | Last Changed Date: 2009-10-26 13:32:31 -0700 (Mon, 26 Oct 2009) | 
 | wilson2 | Linux (openSUSE 11.1) / x86_64 | OK | OK |  | 
| pitt | Mac OS X Tiger (10.4.11) / i386 | [ OK ] | OK | OK | 
| pelham | Mac OS X Leopard (10.5.8) / i386 | OK | OK | OK | 
* checking for file 'harbChIP/DESCRIPTION' ... OK
* preparing 'harbChIP':
* checking DESCRIPTION meta-information ... OK
* installing the package to re-build vignettes
* installing *source* package ‘harbChIP’ ...
** R
** data
** inst
** preparing package for lazy loading
Attaching package: 'IRanges'
	The following object(s) are masked from package:base :
	 Map,
	 cbind,
	 mapply,
	 order,
	 pmax,
	 pmax.int,
	 pmin,
	 pmin.int,
	 rbind,
	 rep.int,
	 table 
Welcome to Bioconductor
  Vignettes contain introductory material. To view, type
  'openVignette()'. To cite Bioconductor, see
  'citation("Biobase")' and for packages 'citation(pkgname)'.
Attaching package: 'Biobase'
	The following object(s) are masked from package:IRanges :
	 updateObject 
** help
*** installing help indices
** building package indices ...
* DONE (harbChIP)
* creating vignettes ... OK
* removing junk files
* checking for LF line-endings in source and make files
* checking for empty or unneeded directories
* building 'harbChIP_1.0.5.tar.gz'