| Back to the "Multiple platform build/check report" |
| Package 21/77 | Hostname | OS / Arch | BUILD | CHECK | BUILD BIN | ||||
| frmaExampleData 0.99.0 Matthew N. McCall
| wilson2 | Linux (openSUSE 11.1) / x86_64 | OK | OK | |||||
| pitt | Mac OS X Tiger (10.4.11) / i386 | OK | OK | [ OK ] | |||||
| pelham | Mac OS X Leopard (10.5.8) / i386 | OK | OK | OK |
| Package: frmaExampleData |
| Version: 0.99.0 |
| Command: /Users/biocbuild/BBS/utils/build-universal.sh frmaExampleData_0.99.0.tar.gz /Library/Frameworks/R.framework/Versions/2.10/Resources/bin/R frmaExampleData.buildbin-libdir |
| StartedAt: 2010-04-02 15:25:28 -0700 (Fri, 02 Apr 2010) |
| EndedAt: 2010-04-02 15:25:56 -0700 (Fri, 02 Apr 2010) |
| EllapsedTime: 28.2 seconds |
| RetCode: 0 |
| Status: OK |
| PackageFile: frmaExampleData_0.99.0.tgz |
| PackageFileSize: 15.89 MiB |
INSTALLATION WITH 'R CMD INSTALL --preclean --library=frmaExampleData.buildbin-libdir frmaExampleData_0.99.0.tar.gz'
* installing *source* package ‘frmaExampleData’ ...
** data
** help
*** installing help indices
** building package indices ...
* DONE (frmaExampleData)