| ccTutorial 1.0.17 Joern Toedling
 
 | Snapshot Date: 2010-04-02 12:27:31 -0700 (Fri, 02 Apr 2010) |  | URL: https://hedgehog.fhcrc.org/bioc-data/trunk/experiment/pkgs/ccTutorial |  | Last Changed Rev: 1044 / Revision: 1201 |  | Last Changed Date: 2009-10-13 18:55:23 -0700 (Tue, 13 Oct 2009) | 
 | wilson2 | Linux (openSUSE 11.1) / x86_64 | OK | OK |  | 
| pitt | Mac OS X Tiger (10.4.11) / i386 | OK | OK | OK | 
| pelham | Mac OS X Leopard (10.5.8) / i386 | OK | OK | [ OK ] | 
                INSTALLATION WITH 'R CMD INSTALL --preclean --library=ccTutorial.buildbin-libdir ccTutorial_1.0.17.tar.gz'
* installing *source* package ‘ccTutorial’ ...
** R
** data
** inst
** preparing package for lazy loading
Loading required package: Biobase
Welcome to Bioconductor
  Vignettes contain introductory material. To view, type
  'openVignette()'. To cite Bioconductor, see
  'citation("Biobase")' and for packages 'citation(pkgname)'.
Loading required package: RColorBrewer
Loading required package: limma
Loading required package: Matrix
Loading required package: lattice
Loading required package: grid
Attaching package: 'affy'
	The following object(s) are masked from package:Ringo :
	 probes 
Loading required package: graph
Loading required package: GO.db
Loading required package: AnnotationDbi
Loading required package: DBI
Loading required package: SparseM
Package SparseM (0.85) loaded.
	   To cite, see citation("SparseM")
Warning in getPackageName(env) :
  Created a package name, "2010-04-02 15:25:42", when none found
Attaching package: 'SparseM'
	The following object(s) are masked from package:Matrix :
	 norm 
	The following object(s) are masked from package:base :
	 backsolve 
groupGOTerms: 	GOBPTerm, GOMFTerm, GOCCTerm environments built.
** help
*** installing help indices
** building package indices ...
* DONE (ccTutorial)