| Back to the "Multiple platform build/check report" | 
| Package 6/77 | Hostname | OS / Arch | BUILD | CHECK | BUILD BIN | ||||
| beta7 1.0.0 Jean Yang 
 | wilson2 | Linux (openSUSE 11.1) / x86_64 | OK | OK | |||||
| pitt | Mac OS X Tiger (10.4.11) / i386 | OK | OK | OK | |||||
| pelham | Mac OS X Leopard (10.5.8) / i386 | OK | OK | [ OK ] | 
| Package: beta7 | 
| Version: 1.0.0 | 
| Command: /Users/biocbuild/BBS/utils/build-universal.sh beta7_1.0.0.tar.gz /Library/Frameworks/R.framework/Versions/2.10/Resources/bin/R beta7.buildbin-libdir | 
| StartedAt: 2010-04-02 15:22:31 -0700 (Fri, 02 Apr 2010) | 
| EndedAt: 2010-04-02 15:22:51 -0700 (Fri, 02 Apr 2010) | 
| EllapsedTime: 20.2 seconds | 
| RetCode: 0 | 
| Status: OK | 
| PackageFile: beta7_1.0.0.tgz | 
| PackageFileSize: 15.3 MiB | 
                INSTALLATION WITH 'R CMD INSTALL --preclean --library=beta7.buildbin-libdir beta7_1.0.0.tar.gz'
* installing *source* package ‘beta7’ ...
** data
** inst
** help
*** installing help indices
** building package indices ...
* DONE (beta7)